BEGIN:VCALENDAR
VERSION:2.0
PRODID:-//Óbuda Napja 2026 | obuda.hu - ECPv5.10.1//NONSGML v1.0//EN
CALSCALE:GREGORIAN
METHOD:PUBLISH
X-WR-CALNAME:Óbuda Napja 2026 | obuda.hu
X-ORIGINAL-URL:https://obudanapja.hu
X-WR-CALDESC:Events for Óbuda Napja 2026 | obuda.hu
BEGIN:VTIMEZONE
TZID:Europe/Budapest
BEGIN:DAYLIGHT
TZOFFSETFROM:+0100
TZOFFSETTO:+0200
TZNAME:CEST
DTSTART:20260329T010000
END:DAYLIGHT
BEGIN:STANDARD
TZOFFSETFROM:+0200
TZOFFSETTO:+0100
TZNAME:CET
DTSTART:20261025T010000
END:STANDARD
END:VTIMEZONE
BEGIN:VEVENT
DTSTART;TZID=Europe/Budapest:20260509T150000
DTEND;TZID=Europe/Budapest:20260509T163000
DTSTAMP:20260426T000513
CREATED:20260403T214917Z
LAST-MODIFIED:20260403T214917Z
UID:3840-1778338800-1778344200@obudanapja.hu
SUMMARY:Szobor és humor a Kádár-korban – Varga Imre művészete
DESCRIPTION:Varga Imre Gyűjtemény\n1033 Budapest\, Laktanya utca 7. \n2026.05.09. 15:00- kb. 16:30\nSzobor és humor a Kádár-korban – Varga Imre művészete\nTárlatvezetés Dr. Schmidt Péterrel\, a Varga Imre Gyűjtemény szakmai vezetőjével \n2023-ban ünnepeltük Varga Imre (1923-2019) Kossuth-díjas szobrászművész születésének századik évfordulóját. Ekkor került újragondolásra a kiállított életmű\, amely mellé eddig ismeretlen\, a hagyatékból származó tanulmányrajzok és fotók kerültek elhelyezésre – az alkotói folyamat bemutatása céljából. Felmerül a kérdés: miképp viszonyult a mester egy-egy történelmi személyiséghez vagy eseményhez\, melyről szobrot rendeltek tőle? Saját szubjektív hozzáállása mennyire tükröződött egy-egy műben? A jelen vezetés célja\, hogy ezzel kapcsolatban Varga Imre humorára fókuszáljon\, melyek a műalkotásaiban nyíltan vagy rejtetten érhetők tetten. \nA Varga Imre Gyűjteményről\nVarga Imre szobrászművész állandó kiállítása 1983-ban nyílt meg Óbudán. Az ötvenes évek végén induló művész a tárlat megnyitásának idejére már jelentős életművel rendelkezett\, és a modern magyar szobrászat fontos személyiségévé emelkedett. Az akkori MSZMP pártvezetés és kultúrpolitika kiemelt művészeként számos nagy köztéri szobrászati megbízáshoz jutott\, 1980 és 1990 között pedig országgyűlési képviselő\, a Hazafias Népfront alelnöke\, a Fészek Művészklub elnöke volt. Ezek a tények magyarázzák\, miért nyílhatott önkormányzati finanszírozásban önálló bemutató helye még életében a 19. század első felében épült\, műemléki védelem alatt álló\, klasszicista paraszt-polgár ház kibővített épületében. \nAz épület jelentőségét növeli\, hogy az egykori Óbudából megőrzött építészeti együttes utcaképének szerves részét alkotja. Az eredetileg U alakú ház keleti oldalán betonoszlopok beépítésével nagy belmagasságú\, új összekötő szárnyat emeltek\, amivel lehetőséget teremtettek a nagyméretű szobortervek és művek elhelyezésére\, valamint a kiállítási teret körbejárhatóvá tették. Így hangulatos belső udvar jött létre\, ahol jelenleg Árpádházi Szent Erzsébetnek és férjének\, Lajosnak az emlékműve tekinthető meg. A gyűjtemény nagy számban tartalmazza Varga Imre köztéri szobrainak 1:1 méretű\, bronzból készült másolatait (Például Derkovits\, Radnóti\, Móricz\, Professzor\, Az eltűnő idő) és kismintáit\, valamint kisplasztika-változatait. Ez egyben a kiállítás és a szoborparkká alakított kert különlegessége is\, ahol a látogató közelről is megszemlélheti a köztéri elhelyezésükben nem mindig megközelíthető szobrokat. \nA Varga Imre Gyűjtemény ma a korábban önálló\, jelenleg a 2011 óta a Budapesti Történeti Múzeum tagintézményeként működő Budapest Galériához tartozik. A gyűjtemény műtárgy-anyaga a Magyar Állam (Magyar Nemzeti Vagyonkezelő Zrt.) tulajdona\, kezelője a BTM – Budapest Galéria. Utóbbi Köztéri Művészeti Alkotások Osztálya gondozza a Főváros területén köztéren álló\, fővárosi tulajdonú szobrokat\, illetve domborműves emléktáblákat\, és mivel Varga Imre munkássága meghatározó a hazai kortárs köztéri szobrászatra nézve\, művészete iskolateremtő és ízlésformáló\, a Gyűjtemény a Budapest Galéria ezen tevékenységéhez kapcsolódik. \nLátogatói információk: https://budapestgaleria.hu/_/varga-imre-gyujtemeny/latogatas/\nNyitva hétfő kivételével minden nap 10:00–18:00 óráig\nPénztárzárás és utolsó belépés: 17:30\nTárlatvezetési díj: 1000 Ft/ fő
URL:https://obudanapja.hu/esemeny/szobor-es-humor-a-kadar-korban-varga-imre-muveszete/
LOCATION:Varga Imre Gyűjtemény\, Laktanya utca 17.\, Budapest\, pest\, 1033
ATTACH;FMTTYPE=image/jpeg:https://obudanapja.hu/wp-content/uploads/2026/03/10_Kert.jpg
END:VEVENT
END:VCALENDAR