BEGIN:VCALENDAR
VERSION:2.0
PRODID:-//Óbuda Napja 2026 | obuda.hu - ECPv5.10.1//NONSGML v1.0//EN
CALSCALE:GREGORIAN
METHOD:PUBLISH
X-WR-CALNAME:Óbuda Napja 2026 | obuda.hu
X-ORIGINAL-URL:https://obudanapja.hu
X-WR-CALDESC:Events for Óbuda Napja 2026 | obuda.hu
BEGIN:VTIMEZONE
TZID:Europe/Budapest
BEGIN:DAYLIGHT
TZOFFSETFROM:+0100
TZOFFSETTO:+0200
TZNAME:CEST
DTSTART:20260329T010000
END:DAYLIGHT
BEGIN:STANDARD
TZOFFSETFROM:+0200
TZOFFSETTO:+0100
TZNAME:CET
DTSTART:20261025T010000
END:STANDARD
END:VTIMEZONE
BEGIN:VEVENT
DTSTART;TZID=Europe/Budapest:20260508T100000
DTEND;TZID=Europe/Budapest:20260508T180000
DTSTAMP:20260425T222007
CREATED:20260406T144233Z
LAST-MODIFIED:20260406T144233Z
UID:3922-1778234400-1778263200@obudanapja.hu
SUMMARY:Hagyományainkból táplálkozunk-Éljen a...strudli!
DESCRIPTION:2026.05.08. \n10:00-18:00 Az elveszett strudli nyomában – receptkereső játék a helytörténeti kiállításban. Javasolt életkor: 6-99 év \n10:00-18:00 Főzz te is! Próbáld ki játékkonyháinkat a játéktörténeti kiállítás előterében. Javasolt életkor: 3-8 év \n16:00-16:30 „Falatnyi varázslat – Miniatűr babakonyhák” kiállítás megnyitó Skultéti Orsolya miniatűr „finomságai” a játéktörténeti kiállítás előterében \n16:45-17:30 GasztrÓbuda – strudli és társai – előadás tartja: Horváth Péter\, történész-muzeológus
URL:https://obudanapja.hu/esemeny/hagyomanyainkbol-taplalkozunk-eljen-a-strudli-4/
LOCATION:Óbudai Múzeum\, Fő tér 1.\, Budapest\, Pest\, 1033\, Magyarország
ATTACH;FMTTYPE=image/jpeg:https://obudanapja.hu/wp-content/uploads/2025/04/Obudai-Muzeum_bejarat-scaled.jpg
END:VEVENT
BEGIN:VEVENT
DTSTART;TZID=Europe/Budapest:20260509T100000
DTEND;TZID=Europe/Budapest:20260509T180000
DTSTAMP:20260425T222007
CREATED:20260403T192408Z
LAST-MODIFIED:20260406T143928Z
UID:3823-1778320800-1778349600@obudanapja.hu
SUMMARY:Hagyományainkból táplálkozunk - Éljen a...strudli!
DESCRIPTION:2026.05.09.\nÓbudai Múzeum épületében (ezen a napon meghosszabbított nyitvatartás)\n1033 Budapest Fő tér 1. \n10:00-12:00 Töltsd velünk! Készítsd el saját strudlidat a SütiPék segítségével!\n10:00-19:00 Az elveszett strudli nyomában – receptkereső játék a helytörténeti kiállításban. Javasolt életkor: 6-99 év \n10:00-19:00 Főzz te is! Próbáld ki játékkonyháinkat a játéktörténeti kiállítás előterében. Javasolt életkor: 3-8 év \n10:00-19:00 „Falatnyi varázslat – Miniatűr babakonyhák” kiállítás Skultéti Orsolya miniatűr „finomságai” a játéktörténeti kiállítás előterében \n10:30-11:15 Titokzatos történet -papírszínházi foglalkozás Kleman Ágnes múzeumpedagógussal. Javasolt életkor: 5-99 év \n14:00-16:00 Töltsd velünk! Készítsd el saját strudlidat a SütiPék segítségével! \n15:00-15:45 Ízek\, konyhák\, receptek – kalandozás a babakonyhák világában\na tárlatvezetést tartja: Vészi-Polgár Mónika\, történész-muzeológus \n16:00-16:45 Titokzatos történet papírszínházi foglalkozás Kleman Ágnes múzeumpedagógussal. Javasolt életkor: 5-99 év \n17:00-18:00 Saly Noémi előadása a sváb konyháról \n  \nZichy-udvarban\n10:00-17:00 Lisztőrlés különféle gabonákból kicsiknek és nagyoknak \n10:00-17:00 Strudli vásár: 5 különböző íz\, sós és édes finomságok helyben sütve\, a SütiPéktől \n11:00-12:00 Gabonakaland\, avagy mit ettél reggelire? – foglalkozás a Mezőgazdasági Múzeum közreműködésével. Javasolt életkor: 10-14 év \n14:00-14:45 A hajómalmoktól a gőzmalmokig – előadást tartja: Horváth Péter\, történész-muzeológus
URL:https://obudanapja.hu/esemeny/hagyomanyainkbol-taplalkozunk-eljen-a-strudli-2/
LOCATION:Óbudai Múzeum\, Fő tér 1.\, Budapest\, Pest\, 1033\, Magyarország
ATTACH;FMTTYPE=image/jpeg:https://obudanapja.hu/wp-content/uploads/2025/04/Obudai-Muzeum_bejarat-scaled.jpg
END:VEVENT
BEGIN:VEVENT
DTSTART;TZID=Europe/Budapest:20260510T100000
DTEND;TZID=Europe/Budapest:20260510T170000
DTSTAMP:20260425T222007
CREATED:20260403T195748Z
LAST-MODIFIED:20260406T142433Z
UID:3828-1778407200-1778432400@obudanapja.hu
SUMMARY:Hagyományainkból táplálkozunk - Éljen a...strudli!
DESCRIPTION:2026.05.10.\nÓbudai Múzeum épületében\n\n10:00-17:00 Az elveszett strudli nyomában – receptkereső játék a helytörténeti kiállításban. Javasolt életkor: 6-99 év \n10:00-17:00 Főzz te is! Próbáld ki játékkonyháinkat a játéktörténeti kiállítás előterében. Javasolt életkor: 3-8 év \n10:00-17:00 „Falatnyi varázslat – Miniatűr babakonyhák” kiállítás. Skultéti Orsolya miniatűr „finomságai” a játéktörténeti kiállítás előterében \n14:00-14:45 Falatnyi varázslat – Így készült… beszélgetés Skultéti Orsolya miniatűr készítővel a játéktörténeti kiállítás előterében. Beszélgetőtárs: Vészi-Polgár Mónika\, történész-muzeológus \nZichy-udvarban \n10:00-17:00 Sváb kenyér vásár a SütiPéktől \n10:00-17:00 Egy gyár anatómiája. Interaktív játékok nem csak gyerekeknek \n11:00 -11:50 Kocsonyakirályfi – jóízű bábos mese 7 fejezetben\, nem csak gyerekeknek. Javasolt életkor: 4-10 év \nMici királykisasszony két dolgot szeret a világon a legjobban: a finom ételek megalkotását és királyi apukáját. Mondjuk királyi apukája szerint igazán szerethetne egy harmadikat is\, például a férjhez menést egy királyfihoz\, lovaghoz vagy szakácsmesterhez. Mici királykisasszony azonban hallani sem akar a szerelemről meg a házasodásról – egy darabig. Azután pedig már ki sem tudja verni a fejéből azt a titokzatos idegent\, akit elég volt egyszer látni\, hogy megszeresse… Hogy ebből mi sül ki? \nÍrta és rajzolta: Szegedi Katalin\nBábosra és bábokra igazította: Papp Melinda\nBábok\, díszletek\, jelmez:Tóth Krisztina\, Néder Norbert\, Szegedi Katalin\nZenével fűszerezte: Szabó Balázs\nAz egészet jól kifőzte és eljátssza: Tóth Krisztina \nKastély kert\n15:00-17:00 Só-liszt gyurma készítés Kleman Ágnes múzeumpedagógussal \n 
URL:https://obudanapja.hu/esemeny/hagyomanyainkbol-taplalkozunk-eljen-a-strudli-3/
LOCATION:Óbudai Múzeum\, Fő tér 1.\, Budapest\, Pest\, 1033\, Magyarország
ATTACH;FMTTYPE=image/jpeg:https://obudanapja.hu/wp-content/uploads/2025/04/Obudai-Muzeum_bejarat-scaled.jpg
END:VEVENT
END:VCALENDAR