BEGIN:VCALENDAR
VERSION:2.0
PRODID:-//Óbuda Napja 2026 | obuda.hu - ECPv5.10.1//NONSGML v1.0//EN
CALSCALE:GREGORIAN
METHOD:PUBLISH
X-WR-CALNAME:Óbuda Napja 2026 | obuda.hu
X-ORIGINAL-URL:https://obudanapja.hu
X-WR-CALDESC:Events for Óbuda Napja 2026 | obuda.hu
BEGIN:VTIMEZONE
TZID:Europe/Budapest
BEGIN:DAYLIGHT
TZOFFSETFROM:+0100
TZOFFSETTO:+0200
TZNAME:CEST
DTSTART:20260329T010000
END:DAYLIGHT
BEGIN:STANDARD
TZOFFSETFROM:+0200
TZOFFSETTO:+0100
TZNAME:CET
DTSTART:20261025T010000
END:STANDARD
END:VTIMEZONE
BEGIN:VEVENT
DTSTART;TZID=Europe/Budapest:20260510T100000
DTEND;TZID=Europe/Budapest:20260510T180000
DTSTAMP:20260425T175607
CREATED:20260406T151413Z
LAST-MODIFIED:20260413T123139Z
UID:3940-1778407200-1778436000@obudanapja.hu
SUMMARY:Mozdulnék! Sportlabor-ingyenes egészségügyi állapotfelmérések
DESCRIPTION:Arteriográf\, BlazePod\, Y-Balance\, látásfunkció\, szorítóerő mérések a Flórián téren.
URL:https://obudanapja.hu/esemeny/mozdulnek-sportlabor-ingyenes-sport-meresek/
LOCATION:Flórián tér\, Flórián tér\, Budapest\, 1032
ATTACH;FMTTYPE=image/jpeg:https://obudanapja.hu/wp-content/uploads/2026/04/5834482737271128265-1152x565-1.jpg
END:VEVENT
BEGIN:VEVENT
DTSTART;TZID=Europe/Budapest:20260510T100000
DTEND;TZID=Europe/Budapest:20260510T200000
DTSTAMP:20260425T175607
CREATED:20260406T153012Z
LAST-MODIFIED:20260413T123337Z
UID:3946-1778407200-1778443200@obudanapja.hu
SUMMARY:Bemutatkoznak a kerületi sportegyesületek
DESCRIPTION:Bemutatkoznak a kerületi sportegyesületek: OVSE – Jövő Záloga Közhasznú Egyesület\, Gankaku Sportegyesület\, Magyar Aikido-Kultúra Szakszövetség\, Panoráma SE\, Óbudai Judo Club\, Óbudai Ganz Vízisport Egyesület\, Gerecse Sziklamászó SE\, Vasas Röplabda Kft.\, Aquincum Sportegyesület
URL:https://obudanapja.hu/esemeny/bemutatkoznak-a-keruleti-sportegyesuletek/
LOCATION:Flórián tér\, Flórián tér\, Budapest\, 1032
ATTACH;FMTTYPE=image/jpeg:https://obudanapja.hu/wp-content/uploads/2026/04/592461580_1323977649743439_2738178944897556143_n.jpg
END:VEVENT
BEGIN:VEVENT
DTSTART;TZID=Europe/Budapest:20260510T100000
DTEND;TZID=Europe/Budapest:20260510T200000
DTSTAMP:20260425T175607
CREATED:20260406T154418Z
LAST-MODIFIED:20260413T123444Z
UID:3949-1778407200-1778443200@obudanapja.hu
SUMMARY:Szabadidős programok a Team Rekreáció csapatával
DESCRIPTION:A Team Rekreáció bemutatja: rekesztorony építés\, sumo\, pingpong\, teqball\, XXL csocsó\, kacanga\, hordó lovaglás\, Angry birds csúzli\, bébijátszó.
URL:https://obudanapja.hu/esemeny/szabadidos-programok/
LOCATION:Flórián tér\, Flórián tér\, Budapest\, 1032
ATTACH;FMTTYPE=image/jpeg:https://obudanapja.hu/wp-content/uploads/2026/04/angry-birds-1-1024x683-1.jpg
END:VEVENT
BEGIN:VEVENT
DTSTART;TZID=Europe/Budapest:20260510T100000
DTEND;TZID=Europe/Budapest:20260510T200000
DTSTAMP:20260425T175607
CREATED:20260406T155028Z
LAST-MODIFIED:20260418T215418Z
UID:3955-1778407200-1778443200@obudanapja.hu
SUMMARY:Budapesti Szabadidősport Szövetség programjai
DESCRIPTION:Idén tavasszal Óbudára érkezik a MOCCANJ! Sportfesztivál\, ahol a mozgás\, az élmény és a kihívás találkozik! A Budapesti Szabadidősport Szövetség és tagszervezetei izgalmas\, interaktív programokkal várnak minden korosztályt.\nTedd próbára reflexeidet a BlazePod segítségével\, fejleszd ügyességed célba lövéssel\, kapura lövéssel vagy akár modellautó vezetéssel!\nA fesztiválon a szórakozás mellett a fenntarthatóság is szerepet kap ott\, ahol a kreatív technológiai találkozik fizikai mozgással. Kerékpárt tekerve hozhatod mozgásba az elektromos kisvonatot vagy versenyezz környezetbarát módon kisautókkal!\nA népi játékokkal felidézzük a technika mentes szórakozást\, ahol az ügyességet\, a gyorsaságot nem támogatja az elektronika. Tekerd gyorsan a kacsa-futamot\, célozz pontosan és gyorsan a gombhokiban vagy találj be a korongcsúszka zsebeibe vagy dobd pontosan a babzsákot a célba. A tekergő teke és az egeres ügyességi fal a koncentrációt és az ügyességet teszi próbára.\nMozdulj\, próbáld ki\, és éld át a sport örömét – találkozzunk Óbudán! \nBlazePod\nEgy eszköz\, amely a modern technológia és a tudomány találkozásából született. Nem csupán szórakoztat\, hanem aktívan fejleszt is. Fokozza a kognitív és fizikai képességeidet\, javítja a reakcióidőt és az állóképességet\, miközben támogatja a gyors és hatékony döntéshozatalt. Tapasztald meg\, milyen\, amikor a fejlődés élménnyé válik! \nCélba lövés\nÖnálló és számos sportág egyik eleme a lövészet. Nálunk biztonságosan\, akár gyermekek is ki tudják próbálni célzó képességüket\, ügyességüket. Szivacs lövedéket lövő pisztolyainkkal nem a pontosságról híresek\, de éppen ez jelenti a kihívást! \nKapura lövés\nMindenki próbált már betalálni labdával egy kapuba. A mi kapunknál pontosan kell célozni\, mert csak öt helyen lehet betalálni a hálóba! \nModellautó vezetés\nAz 1:10 méretarányú (45 cm) autók nem a gyorsaságról\, hanem a precíz irányításról és koncentrációról szólnak. Az akadályokkal tűzdelt pálya izgalmas kihívást nyújt minden korosztálynak\, egyedi élményt nyújt a reflexek és az irányítás összhangjáról. \nFizikai aktivitásból elektromos áram\nKerékpárra pattanva\, a pedál taposásával indíthatjuk el és tarthatjuk mozgásban a kis vonatot. A formula bringa\, a kerékpárok által megtermelt energiával működtetett kisautókkal versenyezhetünk. \nNépi játékpark\nA kacs-futam\, a gombhoki\, a tekergő teke\, a korongcsúszka\, a babzsák célba dobó (mai nevén: Cornhole) és az egérfal egyaránt kihívást jelent egyéni vagy páros játék keretében.
URL:https://obudanapja.hu/esemeny/budapesti-szabadidosport-szovetseg-programjai/
LOCATION:Flórián tér\, Flórián tér\, Budapest\, 1032
ATTACH;FMTTYPE=image/jpeg:https://obudanapja.hu/wp-content/uploads/2026/04/modellaut_.jpg
END:VEVENT
BEGIN:VEVENT
DTSTART;TZID=Europe/Budapest:20260510T100000
DTEND;TZID=Europe/Budapest:20260510T200000
DTSTAMP:20260425T175607
CREATED:20260406T155154Z
LAST-MODIFIED:20260406T155154Z
UID:3960-1778407200-1778443200@obudanapja.hu
SUMMARY:Ládavasút
DESCRIPTION:
URL:https://obudanapja.hu/esemeny/ladavasut/
LOCATION:Flórián tér\, Flórián tér\, Budapest\, 1032
ATTACH;FMTTYPE=image/png:https://obudanapja.hu/wp-content/uploads/2026/04/OBUDANAPJA_2026_FLORIAN-TERhez_cover.png
END:VEVENT
BEGIN:VEVENT
DTSTART;TZID=Europe/Budapest:20260510T100000
DTEND;TZID=Europe/Budapest:20260510T200000
DTSTAMP:20260425T175607
CREATED:20260406T155438Z
LAST-MODIFIED:20260413T123732Z
UID:3962-1778407200-1778443200@obudanapja.hu
SUMMARY:Arcfestés\, henna és csillámtetkó
DESCRIPTION:
URL:https://obudanapja.hu/esemeny/arcfestes-es-henna/
LOCATION:Flórián tér\, Flórián tér\, Budapest\, 1032
ATTACH;FMTTYPE=image/jpeg:https://obudanapja.hu/wp-content/uploads/2026/04/kep2.jpg
END:VEVENT
BEGIN:VEVENT
DTSTART;TZID=Europe/Budapest:20260510T100000
DTEND;TZID=Europe/Budapest:20260510T200000
DTSTAMP:20260425T175607
CREATED:20260406T155751Z
LAST-MODIFIED:20260413T125255Z
UID:3965-1778407200-1778443200@obudanapja.hu
SUMMARY:Csocsó és óriás sakk
DESCRIPTION:
URL:https://obudanapja.hu/esemeny/orias-sakk-es-csocso/
LOCATION:Flórián tér\, Flórián tér\, Budapest\, 1032
ATTACH;FMTTYPE=image/webp:https://obudanapja.hu/wp-content/uploads/2026/04/kerti_orias_sakk_figurakeszlet.jpg.webp
END:VEVENT
BEGIN:VEVENT
DTSTART;TZID=Europe/Budapest:20260510T110000
DTEND;TZID=Europe/Budapest:20260510T120000
DTSTAMP:20260425T175607
CREATED:20260406T155946Z
LAST-MODIFIED:20260406T155946Z
UID:3968-1778410800-1778414400@obudanapja.hu
SUMMARY:Chi kung
DESCRIPTION:Chi kung gyakorlás a Flórián térem. \nAz oktató: Liszka László
URL:https://obudanapja.hu/esemeny/chi-kung/
LOCATION:Flórián tér\, Flórián tér\, Budapest\, 1032
ATTACH;FMTTYPE=image/jpeg:https://obudanapja.hu/wp-content/uploads/2026/04/490185712_1220683593141894_653106073198319898_n.jpg
END:VEVENT
BEGIN:VEVENT
DTSTART;TZID=Europe/Budapest:20260510T120000
DTEND;TZID=Europe/Budapest:20260510T200000
DTSTAMP:20260425T175607
CREATED:20260406T162212Z
LAST-MODIFIED:20260406T162212Z
UID:3975-1778414400-1778443200@obudanapja.hu
SUMMARY:Zsonglőr tanoda
DESCRIPTION:
URL:https://obudanapja.hu/esemeny/zsonglor-tanoda/
LOCATION:Flórián tér\, Flórián tér\, Budapest\, 1032
ATTACH;FMTTYPE=image/jpeg:https://obudanapja.hu/wp-content/uploads/2026/04/lobbanaspont-tuzzsonglor-tuz-zsonglor-show-musor-karacsony-produkcio-elodas-fenyshow-LEDzsonglor-LED-Advent-show-0128.jpg
END:VEVENT
BEGIN:VEVENT
DTSTART;TZID=Europe/Budapest:20260510T140000
DTEND;TZID=Europe/Budapest:20260510T150000
DTSTAMP:20260425T175607
CREATED:20260406T160137Z
LAST-MODIFIED:20260406T160137Z
UID:3972-1778421600-1778425200@obudanapja.hu
SUMMARY:Kung fu
DESCRIPTION:Kung fu gyakorlás a Flórián téren. \nOktató: Liszka László
URL:https://obudanapja.hu/esemeny/kung-fu/
LOCATION:Flórián tér\, Flórián tér\, Budapest\, 1032
ATTACH;FMTTYPE=image/jpeg:https://obudanapja.hu/wp-content/uploads/2026/04/490185712_1220683593141894_653106073198319898_n.jpg
END:VEVENT
BEGIN:VEVENT
DTSTART;TZID=Europe/Budapest:20260510T140000
DTEND;TZID=Europe/Budapest:20260510T180000
DTSTAMP:20260425T175607
CREATED:20260406T162437Z
LAST-MODIFIED:20260406T162437Z
UID:3979-1778421600-1778436000@obudanapja.hu
SUMMARY:Óriás szappanbuborék kavalkád
DESCRIPTION:
URL:https://obudanapja.hu/esemeny/orias-szappanbuborek-kavalkad/
LOCATION:Flórián tér\, Flórián tér\, Budapest\, 1032
ATTACH;FMTTYPE=image/jpeg:https://obudanapja.hu/wp-content/uploads/2026/04/kep.jpg
END:VEVENT
END:VCALENDAR