BEGIN:VCALENDAR
VERSION:2.0
PRODID:-//Óbuda Napja 2026 | obuda.hu - ECPv5.10.1//NONSGML v1.0//EN
CALSCALE:GREGORIAN
METHOD:PUBLISH
X-WR-CALNAME:Óbuda Napja 2026 | obuda.hu
X-ORIGINAL-URL:https://obudanapja.hu
X-WR-CALDESC:Events for Óbuda Napja 2026 | obuda.hu
BEGIN:VTIMEZONE
TZID:Europe/Budapest
BEGIN:DAYLIGHT
TZOFFSETFROM:+0100
TZOFFSETTO:+0200
TZNAME:CEST
DTSTART:20260329T010000
END:DAYLIGHT
BEGIN:STANDARD
TZOFFSETFROM:+0200
TZOFFSETTO:+0100
TZNAME:CET
DTSTART:20261025T010000
END:STANDARD
END:VTIMEZONE
BEGIN:VEVENT
DTSTART;TZID=Europe/Budapest:20260510T100000
DTEND;TZID=Europe/Budapest:20260510T200000
DTSTAMP:20260426T052447
CREATED:20260406T155438Z
LAST-MODIFIED:20260413T123732Z
UID:3962-1778407200-1778443200@obudanapja.hu
SUMMARY:Arcfestés\, henna és csillámtetkó
DESCRIPTION:
URL:https://obudanapja.hu/esemeny/arcfestes-es-henna/
LOCATION:Flórián tér\, Flórián tér\, Budapest\, 1032
ATTACH;FMTTYPE=image/jpeg:https://obudanapja.hu/wp-content/uploads/2026/04/kep2.jpg
END:VEVENT
BEGIN:VEVENT
DTSTART;TZID=Europe/Budapest:20260510T100000
DTEND;TZID=Europe/Budapest:20260510T200000
DTSTAMP:20260426T052447
CREATED:20260406T155751Z
LAST-MODIFIED:20260413T125255Z
UID:3965-1778407200-1778443200@obudanapja.hu
SUMMARY:Csocsó és óriás sakk
DESCRIPTION:
URL:https://obudanapja.hu/esemeny/orias-sakk-es-csocso/
LOCATION:Flórián tér\, Flórián tér\, Budapest\, 1032
ATTACH;FMTTYPE=image/webp:https://obudanapja.hu/wp-content/uploads/2026/04/kerti_orias_sakk_figurakeszlet.jpg.webp
END:VEVENT
BEGIN:VEVENT
DTSTART;TZID=Europe/Budapest:20260510T110000
DTEND;TZID=Europe/Budapest:20260510T115000
DTSTAMP:20260426T052447
CREATED:20260406T102729Z
LAST-MODIFIED:20260406T102729Z
UID:3889-1778410800-1778413800@obudanapja.hu
SUMMARY:Bábos mese: Kocsonyakirályfi
DESCRIPTION:Kocsonyakirályfi – jóízű bábos mese 7 fejezetben\, nem csak gyerekeknek. Javasolt életkor: 4-10 év\nMici királykisasszony két dolgot szeret a világon a legjobban: a finom ételek megalkotását és királyi apukáját. Mondjuk királyi apukája szerint igazán szerethetne egy harmadikat is\, például a férjhez menést egy királyfihoz\, lovaghoz vagy szakácsmesterhez. Mici királykisasszony azonban hallani sem akar a szerelemről meg a házasodásról – egy darabig. Azután pedig már ki sem tudja verni a fejéből azt a titokzatos idegent\, akit elég volt egyszer látni\, hogy megszeresse… Hogy ebből mi sül ki? \nÍrta és rajzolta: Szegedi Katalin\nBábosra és bábokra igazította: Papp Melinda\nBábok\, díszletek\, jelmez:Tóth Krisztina\, Néder Norbert\, Szegedi Katalin\nZenével fűszerezte: Szabó Balázs\nAz egészet jól kifőzte és eljátssza: Tóth Krisztina
URL:https://obudanapja.hu/esemeny/babos-mese-kocsonyakiralyfi/
LOCATION:Zichy udvar\, Szentlélek tér\, Budapest\, Pest\, 1033\, Magyarország
ATTACH;FMTTYPE=image/webp:https://obudanapja.hu/wp-content/uploads/2026/04/kocsonyakiralyfi-web.webp
END:VEVENT
BEGIN:VEVENT
DTSTART;TZID=Europe/Budapest:20260510T110000
DTEND;TZID=Europe/Budapest:20260510T120000
DTSTAMP:20260426T052447
CREATED:20260406T155946Z
LAST-MODIFIED:20260406T155946Z
UID:3968-1778410800-1778414400@obudanapja.hu
SUMMARY:Chi kung
DESCRIPTION:Chi kung gyakorlás a Flórián térem. \nAz oktató: Liszka László
URL:https://obudanapja.hu/esemeny/chi-kung/
LOCATION:Flórián tér\, Flórián tér\, Budapest\, 1032
ATTACH;FMTTYPE=image/jpeg:https://obudanapja.hu/wp-content/uploads/2026/04/490185712_1220683593141894_653106073198319898_n.jpg
END:VEVENT
BEGIN:VEVENT
DTSTART;TZID=Europe/Budapest:20260510T110000
DTEND;TZID=Europe/Budapest:20260510T123000
DTSTAMP:20260426T052447
CREATED:20260403T191041Z
LAST-MODIFIED:20260406T141451Z
UID:3817-1778410800-1778416200@obudanapja.hu
SUMMARY:Interaktív élményséta a vendéglátás történetében
DESCRIPTION:MNMKK Magyar Kereskedelmi és Vendéglátóipari Múzeum \n1036 Budapest Korona tér 1. \n2026.05.10. 11:00 \nInteraktív élményséta a vendéglátás-történetben \nMindent a szemnek\, semmit a kéznek? – Hozzáférhető és elérhető műtárgyak. Kivételesen megtapinthatod\, kipróbálhatod. Interaktív\, élménygazdag tárlatvezetésünkkel testközelbe hozzuk a teljes vendéglátás-történeti kiállításunkat.\nhttps://mkvm.hu/interaktiv-vip/ \nVezeti: S. Bujdosó Tünde múzeumpedagógus\nIdőtartam: max. 80 perc\nLétszám: max. 20 fő\nKorosztály: iskoláskortól-felnőtt\nDíj: belépőjegy+1.000\,- Ft-os programdíj\nhttps://mkvm.hu/belepok/\nRegisztrációhoz kötött: mkvmuzeum@gmail.com
URL:https://obudanapja.hu/esemeny/interaktiv-elmenyseta-a-vendeglatas-torteneteben/
LOCATION:Magyar Kereskedelmi és Vendéglátóipari Múzeum\, 1036 Korona tér 1.\, Budapest\, 1036
ATTACH;FMTTYPE=image/jpeg:https://obudanapja.hu/wp-content/uploads/2026/04/641266571_1535195255272963_2804406783139002765_n.jpg
GEO:47.5704691;19.0556154
X-APPLE-STRUCTURED-LOCATION;VALUE=URI;X-ADDRESS=Magyar Kereskedelmi és Vendéglátóipari Múzeum 1036 Korona tér 1. Budapest 1036;X-APPLE-RADIUS=500;X-TITLE=1036 Korona tér 1.:geo:19.0556154,47.5704691
END:VEVENT
BEGIN:VEVENT
DTSTART;TZID=Europe/Budapest:20260510T113000
DTEND;TZID=Europe/Budapest:20260510T123000
DTSTAMP:20260426T052447
CREATED:20260402T115202Z
LAST-MODIFIED:20260402T124626Z
UID:3700-1778412600-1778416200@obudanapja.hu
SUMMARY:Kaláka gyerekkoncert
DESCRIPTION:A kaláka szó jelentése erdélyi népszokás: közös munka. Eredetileg házépítést jelentett. \nA Kaláka együttes 1969-ben alakult Budapesten. Verseket énekelnek. Muzsikájuk sokszínű\, és a versekből következően sokstílusú. Az egyéni hangzást a négy énekhang\, a klasszikus és népi hangszerek együttes játéka adja. \nAz Kaláka együttes tagjai és hangszereik:\nBecze Gábor: nagybőgő\, gitár\nGryllus Dániel: furulyák\, citera\, pánsíp\, klarinét\, tárogató\nGryllus Vilmos: cselló\, gitár\, charango\, koboz\, doromb\nRadványi Balázs:mandolin\, 12 húros gitár\, ukulele\, cuatro\, brácsa\, kalimba \nKöltészet és zene: Dalok régi és mai\, magyar (közöttük számos határainkon túl élő) és más nemzetiségű költő versére. A Kaláka 30 lemezt jelentett meg dalainak száma kb. 1300. \nA Kaláka-koncerteken a gyerekek nem csak hallgatói\, hanem résztvevői is az előadásnak. Mivel a muzsikusok mind a Kodály Zoltán koncepciója szerint tanító\, híres Lórántffy zenei általános iskolába jártak\, e zenei nevelés igazolói és tudatos használói. A hangversenyeken a bemutatják különleges hangszereiket. Turnéik során más anyanyelvű gyerekek körében is nagy sikerrel játszanak.
URL:https://obudanapja.hu/esemeny/kalaka-gyerekkoncert/
LOCATION:Fő tér\, Fő tér 3.\, Budapest\, Pest\, 1033\, Magyarország
ATTACH;FMTTYPE=image/jpeg:https://obudanapja.hu/wp-content/uploads/2026/04/tetris-1024x683-1.jpg
GEO:47.5416808;19.0450078
X-APPLE-STRUCTURED-LOCATION;VALUE=URI;X-ADDRESS=Fő tér Fő tér 3. Budapest Pest 1033 Magyarország;X-APPLE-RADIUS=500;X-TITLE=Fő tér 3.:geo:19.0450078,47.5416808
END:VEVENT
BEGIN:VEVENT
DTSTART;TZID=Europe/Budapest:20260510T120000
DTEND;TZID=Europe/Budapest:20260510T200000
DTSTAMP:20260426T052447
CREATED:20260406T162212Z
LAST-MODIFIED:20260406T162212Z
UID:3975-1778414400-1778443200@obudanapja.hu
SUMMARY:Zsonglőr tanoda
DESCRIPTION:
URL:https://obudanapja.hu/esemeny/zsonglor-tanoda/
LOCATION:Flórián tér\, Flórián tér\, Budapest\, 1032
ATTACH;FMTTYPE=image/jpeg:https://obudanapja.hu/wp-content/uploads/2026/04/lobbanaspont-tuzzsonglor-tuz-zsonglor-show-musor-karacsony-produkcio-elodas-fenyshow-LEDzsonglor-LED-Advent-show-0128.jpg
END:VEVENT
BEGIN:VEVENT
DTSTART;TZID=Europe/Budapest:20260510T123000
DTEND;TZID=Europe/Budapest:20260510T133000
DTSTAMP:20260426T052447
CREATED:20260406T103716Z
LAST-MODIFIED:20260406T103716Z
UID:3892-1778416200-1778419800@obudanapja.hu
SUMMARY:Beszélgetés: Óbudai legendák
DESCRIPTION:Óbudai legendák: helytörténeti beszélgetés: Mojzsis Dóra\, Csörsz Rumen István\, Horváth Péter \nFotó: Fortepan / Benke Imréné
URL:https://obudanapja.hu/esemeny/beszelgetes-obudai-legendak/
LOCATION:Zichy udvar\, Szentlélek tér\, Budapest\, Pest\, 1033\, Magyarország
ATTACH;FMTTYPE=image/jpeg:https://obudanapja.hu/wp-content/uploads/2026/04/fortepan_15663-1.jpg
END:VEVENT
BEGIN:VEVENT
DTSTART;TZID=Europe/Budapest:20260510T130000
DTEND;TZID=Europe/Budapest:20260510T140000
DTSTAMP:20260426T052447
CREATED:20260402T134718Z
LAST-MODIFIED:20260402T134718Z
UID:3746-1778418000-1778421600@obudanapja.hu
SUMMARY:Egy5egy akusztik
DESCRIPTION:Az egy5egy néha szeret nem zajongani – ilyenkor átalakul\, és megszületik az egy+egy. Ugyanazokat a dalokat játsszák\, mint máskor\, csak letisztultabban\, áthangszerelve\, bensőségesebb formában. Ez egyszerre félig standup\, félig komoly koncert – mindig az lesz belőle\, amit a helyzet hoz. Egyedül a setlist biztos.\nElső nagylemezük\, a Szépek voltak egyszer 2022 októberében jelent meg\, a pécsi ZAJZAJZAJ stúdióban\, Egyedi Péter produceri közreműködésével. 2023-ban kiadták az Utómunkák című kislemezt és az Egyedül bárkik koncertlemezt. Ugyanebben az évben a Petőfi Nagylemez Program díjazottjai lettek\, amelynek keretében Dióssy Ákossal készítették el második nagylemezüket\, az El nem álló nagy vihar-t (2024).\nAz utóbbi időben az Esti Kornél\, a 30Y és az Elefánt zenekarokkal turnéztak előzenekarként\, és olyan fesztiválokon léptek fel\, mint a Sziget\, a Fishing on Orfű\, a Művészetek Völgye vagy az Ördögkatlan. Jelenleg a 2025-ben érkező harmadik nagylemezükön dolgoznak\, melynek előfutárai a SEMMI SZÉP és a HIRTELEN.
URL:https://obudanapja.hu/esemeny/egy5egy-akusztik/
LOCATION:Szentlélek tér\, Szentlélek tér 1.\, Budapest\, Pest\, 1033\, Magyarország
ATTACH;FMTTYPE=image/jpeg:https://obudanapja.hu/wp-content/uploads/2026/04/egy5egy_szekelyzso-18-scaled.jpg
GEO:47.5412494;19.0455856
X-APPLE-STRUCTURED-LOCATION;VALUE=URI;X-ADDRESS=Szentlélek tér Szentlélek tér 1. Budapest Pest 1033 Magyarország;X-APPLE-RADIUS=500;X-TITLE=Szentlélek tér 1.:geo:19.0455856,47.5412494
END:VEVENT
BEGIN:VEVENT
DTSTART;TZID=Europe/Budapest:20260510T130000
DTEND;TZID=Europe/Budapest:20260510T143000
DTSTAMP:20260426T052447
CREATED:20260402T115415Z
LAST-MODIFIED:20260407T062023Z
UID:3702-1778418000-1778423400@obudanapja.hu
SUMMARY:Panelbeszélgetés: A művészetek szerepe a gyógyulásban
DESCRIPTION:A művészetek szerepe a gyógyulásban – panelbeszélgetés \nMit jelent a gyógyulás? Hogyan segíthet a művészet a traumák feldolgozásában? Hogyan lehet egy terápiás folyamat során biztonságosan dolgozni olyan témákkal\, mint a családon belüli erőszak? \nA beszélgetés során segítő szakemberek osztják meg tapasztalataikat az alkotás\, a terápia\, a közösség és a feldolgozás kapcsolatáról. Szó lesz arról\, hogyan adhat hangot a művészet nehezen kimondható tapasztalatoknak\, és hogyan támogatja a gyógyulást és a továbblépést. \nVárunk mindenkit\, aki szeretné mélyebben megérteni a művészet és a belső folyamatok összefüggéseit. \nAz esemény Óbuda-Békásmegyer Önkormányzat és a NANE Egyesület szervezésében kerül megrendezésre. \nÓbuda-Békásmegyer Önkormányzat Áldozatsegítő Programjáról itt talál bővebb információt: obuda.hu/aldozatsegites
URL:https://obudanapja.hu/esemeny/panelbeszelgetes-a-nane-kozremukodesevel/
LOCATION:Esernyős Óbudai Kulturális és Sport Nonprofit Kft.\, Fő tér 2.\, Budapest\, Pest\, 1033
ATTACH;FMTTYPE=image/png:https://obudanapja.hu/wp-content/uploads/2026/04/panelbeszelgetes.png
END:VEVENT
BEGIN:VEVENT
DTSTART;TZID=Europe/Budapest:20260510T140000
DTEND;TZID=Europe/Budapest:20260510T150000
DTSTAMP:20260426T052447
CREATED:20260406T160137Z
LAST-MODIFIED:20260406T160137Z
UID:3972-1778421600-1778425200@obudanapja.hu
SUMMARY:Kung fu
DESCRIPTION:Kung fu gyakorlás a Flórián téren. \nOktató: Liszka László
URL:https://obudanapja.hu/esemeny/kung-fu/
LOCATION:Flórián tér\, Flórián tér\, Budapest\, 1032
ATTACH;FMTTYPE=image/jpeg:https://obudanapja.hu/wp-content/uploads/2026/04/490185712_1220683593141894_653106073198319898_n.jpg
END:VEVENT
BEGIN:VEVENT
DTSTART;TZID=Europe/Budapest:20260510T140000
DTEND;TZID=Europe/Budapest:20260510T180000
DTSTAMP:20260426T052447
CREATED:20260406T162437Z
LAST-MODIFIED:20260406T162437Z
UID:3979-1778421600-1778436000@obudanapja.hu
SUMMARY:Óriás szappanbuborék kavalkád
DESCRIPTION:
URL:https://obudanapja.hu/esemeny/orias-szappanbuborek-kavalkad/
LOCATION:Flórián tér\, Flórián tér\, Budapest\, 1032
ATTACH;FMTTYPE=image/jpeg:https://obudanapja.hu/wp-content/uploads/2026/04/kep.jpg
END:VEVENT
BEGIN:VEVENT
DTSTART;TZID=Europe/Budapest:20260510T150000
DTEND;TZID=Europe/Budapest:20260510T154500
DTSTAMP:20260426T052447
CREATED:20260404T134527Z
LAST-MODIFIED:20260404T134527Z
UID:3851-1778425200-1778427900@obudanapja.hu
SUMMARY:Egérparádé
DESCRIPTION:Apróléptű cirkuszi próbálkozások\nkicsinyeknek és nagyobbacskáknak\, bábokkal és csinnadrattával!\nEgy fertályóra móka a nézők segedelmével\, mindannyiunk örömére. \nTervezte: Grossmith Erik Bábok: Grossmith Erik és Bodor Éva Előadja: Gulyás László Vándormuzsikus
URL:https://obudanapja.hu/esemeny/egerparade/
LOCATION:Zichy udvar\, Szentlélek tér\, Budapest\, Pest\, 1033\, Magyarország
ATTACH;FMTTYPE=image/jpeg:https://obudanapja.hu/wp-content/uploads/2026/04/Egerek4.jpg
END:VEVENT
BEGIN:VEVENT
DTSTART;TZID=Europe/Budapest:20260510T150000
DTEND;TZID=Europe/Budapest:20260510T170000
DTSTAMP:20260426T052447
CREATED:20260406T104102Z
LAST-MODIFIED:20260406T104102Z
UID:3895-1778425200-1778432400@obudanapja.hu
SUMMARY:Só-liszt gyurma készítés
DESCRIPTION:Só-liszt gyurma készítés: Kleman Ágnes múzeumpedagógussal
URL:https://obudanapja.hu/esemeny/so-liszt-gyurma-keszites/
LOCATION:Zichy udvar\, Szentlélek tér\, Budapest\, Pest\, 1033\, Magyarország
ATTACH;FMTTYPE=image/jpeg:https://obudanapja.hu/wp-content/uploads/2026/04/so-liszt-gyurma-fokep.jpg
END:VEVENT
BEGIN:VEVENT
DTSTART;TZID=Europe/Budapest:20260510T153000
DTEND;TZID=Europe/Budapest:20260510T163000
DTSTAMP:20260426T052447
CREATED:20260402T135433Z
LAST-MODIFIED:20260402T135433Z
UID:3750-1778427000-1778430600@obudanapja.hu
SUMMARY:Hegedűs Józsi akusztik
DESCRIPTION:A szabadkígyósi születésű\, napközis tanárként dolgozó Hegedűs Józsi immár tíz éve írogat dalokat egyszálgitárra\, melyeknek lírai melankóliáján Cseh Tamást öröksége érződik\, bár saját bevallása szerint „az Ördög\, vagy a Szentlélek\, vagy mind a kettő sugdossák\, meg dudorásszák” őket a fülébe. Legnagyobb közönség előtt eddig az Eucharisztikus Kongresszuson léphetett fel\, de igazán a zene által teremtett közelség\, közösség a fontos számára.
URL:https://obudanapja.hu/esemeny/hegedus-jozsi-akusztik/
LOCATION:Szentlélek tér\, Szentlélek tér 1.\, Budapest\, Pest\, 1033\, Magyarország
ATTACH;FMTTYPE=image/jpeg:https://obudanapja.hu/wp-content/uploads/2026/04/231723274_4532998993401209_6581934434273919072_n.jpg
GEO:47.5412494;19.0455856
X-APPLE-STRUCTURED-LOCATION;VALUE=URI;X-ADDRESS=Szentlélek tér Szentlélek tér 1. Budapest Pest 1033 Magyarország;X-APPLE-RADIUS=500;X-TITLE=Szentlélek tér 1.:geo:19.0455856,47.5412494
END:VEVENT
BEGIN:VEVENT
DTSTART;TZID=Europe/Budapest:20260510T153000
DTEND;TZID=Europe/Budapest:20260510T163000
DTSTAMP:20260426T052447
CREATED:20260406T104550Z
LAST-MODIFIED:20260406T104550Z
UID:3900-1778427000-1778430600@obudanapja.hu
SUMMARY:Beszélgetés: Óbudai nők
DESCRIPTION:Óbudai nők: portrébeszélgetés Turi Tímea
URL:https://obudanapja.hu/esemeny/beszelgetes-obudai-nok/
LOCATION:Zichy udvar\, Szentlélek tér\, Budapest\, Pest\, 1033\, Magyarország
ATTACH;FMTTYPE=image/jpeg:https://obudanapja.hu/wp-content/uploads/2026/04/467703335_10232966892331049_2113823059868408162_n.jpg
END:VEVENT
BEGIN:VEVENT
DTSTART;TZID=Europe/Budapest:20260510T163000
DTEND;TZID=Europe/Budapest:20260510T173000
DTSTAMP:20260426T052447
CREATED:20260402T140432Z
LAST-MODIFIED:20260402T140715Z
UID:3754-1778430600-1778434200@obudanapja.hu
SUMMARY:DJ Set: Danny Better
DESCRIPTION:
URL:https://obudanapja.hu/esemeny/dj-set-danny-better/
LOCATION:Szentlélek tér\, Szentlélek tér 1.\, Budapest\, Pest\, 1033\, Magyarország
ATTACH;FMTTYPE=image/jpeg:https://obudanapja.hu/wp-content/uploads/2026/04/473378761_9506240032743341_3441958019737759252_n.jpg
GEO:47.5412494;19.0455856
X-APPLE-STRUCTURED-LOCATION;VALUE=URI;X-ADDRESS=Szentlélek tér Szentlélek tér 1. Budapest Pest 1033 Magyarország;X-APPLE-RADIUS=500;X-TITLE=Szentlélek tér 1.:geo:19.0455856,47.5412494
END:VEVENT
BEGIN:VEVENT
DTSTART;TZID=Europe/Budapest:20260510T173000
DTEND;TZID=Europe/Budapest:20260510T183000
DTSTAMP:20260426T052447
CREATED:20260402T115812Z
LAST-MODIFIED:20260418T214514Z
UID:3704-1778434200-1778437800@obudanapja.hu
SUMMARY:Fiúk- koncert
DESCRIPTION:A Fiúk 2019-ben alakult Budapesten. A zenekar saját stílusát földalatti popnak szokta nevezni.Az elmúlt 4 évben játszottak több hazai fesztiválon\, budapesti és vidéki klubokban egyaránt. Ezalatt kiadták első nagylemezüket\, ami a Velem egyedül címet kapta.2022-ben érkezett a Ha neked nem EP-jük. Zeneileg nagy változáson mentek keresztül a korábbi dalokhoz képest\, de bevallásuk szerint\, ezzel a kislemezzel találták meg a stílusukat. \nTovábbi információkért látogasson el a koncert facebook eseményére: \nhttps://fb.me/e/6QAquZhdb
URL:https://obudanapja.hu/esemeny/fiuk-koncert/
LOCATION:Fő tér\, Fő tér 3.\, Budapest\, Pest\, 1033\, Magyarország
ATTACH;FMTTYPE=image/jpeg:https://obudanapja.hu/wp-content/uploads/2026/04/IMG_9603-scaled-e1775133250823.jpg
GEO:47.5416808;19.0450078
X-APPLE-STRUCTURED-LOCATION;VALUE=URI;X-ADDRESS=Fő tér Fő tér 3. Budapest Pest 1033 Magyarország;X-APPLE-RADIUS=500;X-TITLE=Fő tér 3.:geo:19.0450078,47.5416808
END:VEVENT
BEGIN:VEVENT
DTSTART;TZID=Europe/Budapest:20260510T183000
DTEND;TZID=Europe/Budapest:20260510T193000
DTSTAMP:20260426T052447
CREATED:20260402T141240Z
LAST-MODIFIED:20260402T141240Z
UID:3758-1778437800-1778441400@obudanapja.hu
SUMMARY:Varga Livius Show Band
DESCRIPTION:Varga Livius Show Band világ legszórakoztatóbb és legmélyebb kvartettje. Nem csak zene sokkal több annál!\nHúzós groovok\, szárnyaló zenei érzésfelhő\, humor és könnyed létbölcselet. \nTökéletes gazdag hangzás.\nUtánozhatatlan humor.\nPolitika nincs\, világmegváltás van!\nKönnyed koncert súlyos dalokkal.\nAlázatos virtuózok. \nRock and roll\, boogie-woogie\, blues\, hip-hop\, streetfunk\, urban dancejazz.\nTom Waits\, Quimby\, A kutya Vacsorája\, Dr John\, Louis Armstrong és még sokan mások a zenekar étlapján\, saját dalaikkal együtt. \nVarga Livius dob-ének\, showman\, a zenekar rugója és házigazdája (Quimby\, A kutya vacsorája)\nNemes Zoltán zongora-ének\, a Jambalaya zenekar vezetője a New Orleans street életérzést hozza közénk térdén táncoló zongorájával\nVastag Gábor gitár-ének\, aki képes szólózni ezer vagy akár egyetlen egy hanggal is\nPengő Csaba nagybőgő-ének\, aki kezében a bőgő életre kel \n 
URL:https://obudanapja.hu/esemeny/varga-livius-show-band/
LOCATION:Szentlélek tér\, Szentlélek tér 1.\, Budapest\, Pest\, 1033\, Magyarország
ATTACH;FMTTYPE=image/jpeg:https://obudanapja.hu/wp-content/uploads/2026/04/Varga-Livius-Show-Band-kep-scaled.jpg
GEO:47.5412494;19.0455856
X-APPLE-STRUCTURED-LOCATION;VALUE=URI;X-ADDRESS=Szentlélek tér Szentlélek tér 1. Budapest Pest 1033 Magyarország;X-APPLE-RADIUS=500;X-TITLE=Szentlélek tér 1.:geo:19.0455856,47.5412494
END:VEVENT
BEGIN:VEVENT
DTSTART;TZID=Europe/Budapest:20260510T190000
DTEND;TZID=Europe/Budapest:20260510T200000
DTSTAMP:20260426T052447
CREATED:20260402T121848Z
LAST-MODIFIED:20260418T214620Z
UID:3709-1778439600-1778443200@obudanapja.hu
SUMMARY:Henri Gonzo és a Papírsárkányok - koncert
DESCRIPTION:A Henri Gonzo és a Papírsárkányok zenekar a világjárvány végén kezdett el formálódni a kubai/magyar származású énekes dalszerző fejében. Akkoriban Henri egy Fonogram díjas nagylemezen és egy londoni studiózáson volt túl másik zenekarával a Fran Palermo-val amit egy hosszú\, koncert nélküli nyár majd ősz és végül tél követett. A járványhelyzet okozta tehetetlenség alatt úgy érezte\, hogy most ideje lehet kipróbálni valami újat amit azelőtt nem volt még ideje\, ez lett a ma már igencsak aktív irodalomközelítő\, klasszicizáló magyarul éneklő alternatív formáció melyhez először Farkas Zazie és Issiaga Camara csatlakoztak. 2021-ben budavári lakást vettek ki néhány hétre ahol Henri megmutatta első demóit. Hamarosan csatlakoztak a zenekarhoz néhányan a Liszt Ferenc zeneakadémiáról\, és páran a szűk baráti közegükből. 2022-ben jelent meg első kislemezük egy limitált szériás kazettán amit 2023-ban első nagylemezük követett amelyet a We Love Budapest és a Telex is az év lemezei közt emlegetett. Az első nagylemez bemutatója teltház előtt történt a pesti Trafóban\, majd hamarosan a MÜPA-ban is teltházas koncertet adtak és kiemelt szereplői voltak a Margó fesztiváltól a Kolorádón át számos könnyűzenei és irodalmi eseménynek. A zenekar jelenleg második nagylemezén dolgozik. \nTovábbi információkért látogasson el a koncert facebook eseményére: \nhttps://fb.me/e/2139vmFVI0
URL:https://obudanapja.hu/esemeny/henri-gonzo-es-a-papirsarkanyok-koncert/
LOCATION:Fő tér\, Fő tér 3.\, Budapest\, Pest\, 1033\, Magyarország
ATTACH;FMTTYPE=image/jpeg:https://obudanapja.hu/wp-content/uploads/2026/04/Quartet-Papirsarkanyok_smaller-scaled.jpeg
GEO:47.5416808;19.0450078
X-APPLE-STRUCTURED-LOCATION;VALUE=URI;X-ADDRESS=Fő tér Fő tér 3. Budapest Pest 1033 Magyarország;X-APPLE-RADIUS=500;X-TITLE=Fő tér 3.:geo:19.0450078,47.5416808
END:VEVENT
BEGIN:VEVENT
DTSTART;TZID=Europe/Budapest:20260510T190000
DTEND;TZID=Europe/Budapest:20260510T210000
DTSTAMP:20260426T052447
CREATED:20260403T200300Z
LAST-MODIFIED:20260403T200300Z
UID:3830-1778439600-1778446800@obudanapja.hu
SUMMARY:HETVEN\, A FENE EGYE MEG! - Kiss Gy. László és a tárogató vidám estje
DESCRIPTION:Óbudai Társaskör\n1036 Budapest\, Kiskorona utca 7. \n2026. 05.10. 19:00\nHETVEN\, A FENE EGYE MEG!\nKiss Gy. László és a tárogató vidám estje\, az elmúlt 30 év ritkaságai zenében\, humorban\, történetekben. \nKözreműködnek:\nÁrendás Péter – brácsa\nLelkes András – nagybőgő\nFarkas Zsolt – zongora\nValamint a család apraja és nagyja\nVendég: Szilágyi Béla – klarinét \nÖrmény dal\nDubrovay László: Laudate\nGémesi Géza: Alleluja Magna\nAltató és csárdások\nVajda János: Intermezzo\nDunántúli táncok\nHollós Máté: Kiss szvit\nErdélyi muzsika\nszünet\nVajdasági és rábaközi muzsikák\nDinicu: Két Hora\nA tárogatós arcai\nCsaládi tánc\nEgy kis blues\, egy kis dixi\nArgentin tangó tánc\nJódli parádé\nMezőkölpényi népzene \nKomoly és vidám számvetés hetven esztendőről.\nA műsor első felében – eltérve az ismert szokásoktól – együtt jelenik meg a népzene és a komolyzene\, ezúttal egymást erősítve\, izgalmas kapcsolódások formájában.\nA második rész vidám történetekkel és jó muzsikákkal várja a hallgatóságot\, a palettán megannyi szín az argentin tangótól a jazzen át a dob-zongora duóig.\nA meglepetés klarinét produkciót a tradicionális jazz világából ezúttal egy tanítvány\, Szilágyi Béla operaénekes\, a Társaskör munkatársa nyújtja át. \nJegyár: 4000 Ft \nhttps://jegymester.hu/production/301741/obudai-tarsaskoer-70-a-fene-egye-meg-kiss-gy-laszlo-es-a-tarogato-vidam-estje/30002100
URL:https://obudanapja.hu/esemeny/hetven-a-fene-egye-meg-kiss-gy-laszlo-es-a-tarogato-vidam-estje/
LOCATION:Óbudai Társaskör\, Kiskorona utca 7.\, Budapest\, Pest\, 1036\, Magyarország
ATTACH;FMTTYPE=image/webp:https://obudanapja.hu/wp-content/uploads/2026/04/KGy-220513-©-Vass-Daniel-04-2048x1876-1.webp
GEO:47.53827;19.042829
X-APPLE-STRUCTURED-LOCATION;VALUE=URI;X-ADDRESS=Óbudai Társaskör Kiskorona utca 7. Budapest Pest 1036 Magyarország;X-APPLE-RADIUS=500;X-TITLE=Kiskorona utca 7.:geo:19.042829,47.53827
END:VEVENT
BEGIN:VEVENT
DTSTART;TZID=Europe/Budapest:20260510T203000
DTEND;TZID=Europe/Budapest:20260510T220000
DTSTAMP:20260426T052447
CREATED:20260402T122311Z
LAST-MODIFIED:20260418T214740Z
UID:3713-1778445000-1778450400@obudanapja.hu
SUMMARY:Kiscsillag - koncert
DESCRIPTION:A Kiscsillag zenekar\, amely 2005-ös megalakulásakor hobbi garázszenekarként definiálta magát\, mára Magyarország elsőszámú alterrock zenekarának tekinthető. A mindig gitáralapú\, de számos eltérő stílusjegyet magába olvasztó dalok\, a lendületes előadásmód\, Lovasi emblematikus szövegvilága és a zenekar utolsó éveiben megjelenő többszólamú énektémák az egyik legkarakteresebb\, legegyedibb hangú\, bátran kísérletező\, évről évre megújuló produkcióvá tették a Kiscsillagot. A jelenlegi felállásban a két alapító\, Leskovics Gábor (PUF) és Lovasi András (Kispál és a Borz) mellett az immár énekes-dalszerző-multiinstrumentalista szintre emelkedő Szesztay Dávid játszik\, továbbá az idéntől a csapatba kerülő Hajba Imre basszusgitározik\, a dobok mögött Bajkai Ferenc ül. \nTovábbi információkért látogasson el a koncert facebook eseményére: \nhttps://fb.me/e/5Ox79Glnz
URL:https://obudanapja.hu/esemeny/kiscsillag-koncert/
LOCATION:Fő tér\, Fő tér 3.\, Budapest\, Pest\, 1033\, Magyarország
ATTACH;FMTTYPE=image/jpeg:https://obudanapja.hu/wp-content/uploads/2026/04/KISCSILLAG1-scaled.jpg
GEO:47.5416808;19.0450078
X-APPLE-STRUCTURED-LOCATION;VALUE=URI;X-ADDRESS=Fő tér Fő tér 3. Budapest Pest 1033 Magyarország;X-APPLE-RADIUS=500;X-TITLE=Fő tér 3.:geo:19.0450078,47.5416808
END:VEVENT
BEGIN:VEVENT
DTSTART;TZID=Europe/Budapest:20260515T100000
DTEND;TZID=Europe/Budapest:20260515T111500
DTSTAMP:20260426T052447
CREATED:20260407T095938Z
LAST-MODIFIED:20260407T115839Z
UID:3999-1778839200-1778843700@obudanapja.hu
SUMMARY:A nagy Himnusz sztori – Bősze Ádám és Nyári Krisztián előadása az Óbudai Múzeum Hajógyári Horizontok című előadás sorozatának keretében
DESCRIPTION:2026.05.15. Szindbád terem: 10:00-11:15 \nA nagy Himnusz sztori – Bősze Ádám és Nyári Krisztián előadása az Óbudai Múzeum Hajógyári Horizontok című előadás sorozatának keretében\n75 perc\, szünet nélkül \nHelyszín: Esernyős Szindbád terem\nJegyár: 2500 Ft\nJegyek hamarosan!
URL:https://obudanapja.hu/esemeny/a-nagy-himnusz-sztori-bosze-adam-es-nyari-krisztian-eloadasa-az-obudai-muzeum-hajogyari-horizontok-cimu-eloadas-sorozatanak-kereteben/
LOCATION:Esernyős Óbudai Kulturális és Sport Nonprofit Kft.\, Fő tér 2.\, Budapest\, Pest\, 1033
ATTACH;FMTTYPE=image/webp:https://obudanapja.hu/wp-content/uploads/2026/04/Bosze_Nyary-2048x1152-1.webp
END:VEVENT
END:VCALENDAR