BEGIN:VCALENDAR
VERSION:2.0
PRODID:-//Óbuda Napja 2026 | obuda.hu - ECPv5.10.1//NONSGML v1.0//EN
CALSCALE:GREGORIAN
METHOD:PUBLISH
X-WR-CALNAME:Óbuda Napja 2026 | obuda.hu
X-ORIGINAL-URL:https://obudanapja.hu
X-WR-CALDESC:Events for Óbuda Napja 2026 | obuda.hu
BEGIN:VTIMEZONE
TZID:Europe/Budapest
BEGIN:DAYLIGHT
TZOFFSETFROM:+0100
TZOFFSETTO:+0200
TZNAME:CEST
DTSTART:20260329T010000
END:DAYLIGHT
BEGIN:STANDARD
TZOFFSETFROM:+0200
TZOFFSETTO:+0100
TZNAME:CET
DTSTART:20261025T010000
END:STANDARD
END:VTIMEZONE
BEGIN:VEVENT
DTSTART;TZID=Europe/Budapest:20260509T160000
DTEND;TZID=Europe/Budapest:20260509T170000
DTSTAMP:20260425T204105
CREATED:20260406T095558Z
LAST-MODIFIED:20260406T095558Z
UID:3876-1778342400-1778346000@obudanapja.hu
SUMMARY:Zöld Óbuda: Fenntarthatósági beszélgetés
DESCRIPTION:Zöld Óbuda fenntarthatósági beszélgetés: Dr. Horváth Dániellel\, Dr. Dexler Dórával. \nFotó: Faragó Csaba: Békásmegyeri hajnal
URL:https://obudanapja.hu/esemeny/zold-obuda-fenntarthatosagi-beszelgetes/
LOCATION:Zichy udvar\, Szentlélek tér\, Budapest\, Pest\, 1033\, Magyarország
ATTACH;FMTTYPE=image/jpeg:https://obudanapja.hu/wp-content/uploads/2026/04/bekasmegyeri_hajnal_20250916-scaled.jpg
END:VEVENT
END:VCALENDAR