BEGIN:VCALENDAR
VERSION:2.0
PRODID:-//Óbuda Napja 2026 | obuda.hu - ECPv5.10.1//NONSGML v1.0//EN
CALSCALE:GREGORIAN
METHOD:PUBLISH
X-WR-CALNAME:Óbuda Napja 2026 | obuda.hu
X-ORIGINAL-URL:https://obudanapja.hu
X-WR-CALDESC:Events for Óbuda Napja 2026 | obuda.hu
BEGIN:VTIMEZONE
TZID:Europe/Budapest
BEGIN:DAYLIGHT
TZOFFSETFROM:+0100
TZOFFSETTO:+0200
TZNAME:CEST
DTSTART:20260329T010000
END:DAYLIGHT
BEGIN:STANDARD
TZOFFSETFROM:+0200
TZOFFSETTO:+0100
TZNAME:CET
DTSTART:20261025T010000
END:STANDARD
END:VTIMEZONE
BEGIN:VEVENT
DTSTART;TZID=Europe/Budapest:20260509T100000
DTEND;TZID=Europe/Budapest:20260509T170000
DTSTAMP:20260425T204315
CREATED:20260404T133403Z
LAST-MODIFIED:20260406T095719Z
UID:3842-1778320800-1778346000@obudanapja.hu
SUMMARY:Tökmagfalva - interaktív mesefalu
DESCRIPTION:A digitális világ egyre nagyobb károkat okoz gyermekeink fejlődésében. Egy olyan helyet alkottunk meg\, ahol játszva igazi játékra tanítunk.\nA kézműves mesterségek eszközei a kerti munkák\, a tökmagfalvi lét valójában szerepjátékon keresztül elvégzett\, sok mozgással összekapcsolt motorikus és figyelemfejlesztés.\nLépj be egy varázslatos faluba\, legyél te a király vagy katona\, a kovács vagy az asztalos\, fedezd fel a gyógynövények titkait és a földművelés rejtelmeit.\nTökmagfalva interaktív mesefalu izgalmas és különleges gyerekprogram rendezvényeken\, fesztiválokon.
URL:https://obudanapja.hu/esemeny/tokmagfalva-interaktiv-mesefalu/
LOCATION:Zichy udvar\, Szentlélek tér\, Budapest\, Pest\, 1033\, Magyarország
ATTACH;FMTTYPE=image/jpeg:https://obudanapja.hu/wp-content/uploads/2026/04/FJG_8245-scaled.jpg
END:VEVENT
END:VCALENDAR