BEGIN:VCALENDAR
VERSION:2.0
PRODID:-//Óbuda Napja 2026 | obuda.hu - ECPv5.10.1//NONSGML v1.0//EN
CALSCALE:GREGORIAN
METHOD:PUBLISH
X-WR-CALNAME:Óbuda Napja 2026 | obuda.hu
X-ORIGINAL-URL:https://obudanapja.hu
X-WR-CALDESC:Events for Óbuda Napja 2026 | obuda.hu
BEGIN:VTIMEZONE
TZID:Europe/Budapest
BEGIN:DAYLIGHT
TZOFFSETFROM:+0100
TZOFFSETTO:+0200
TZNAME:CEST
DTSTART:20250330T010000
END:DAYLIGHT
BEGIN:STANDARD
TZOFFSETFROM:+0200
TZOFFSETTO:+0100
TZNAME:CET
DTSTART:20251026T010000
END:STANDARD
END:VTIMEZONE
BEGIN:VEVENT
DTSTART;TZID=Europe/Budapest:20250509T121500
DTEND;TZID=Europe/Budapest:20250509T124500
DTSTAMP:20260425T223502
CREATED:20250429T112221Z
LAST-MODIFIED:20260403T175924Z
UID:3551-1746792900-1746794700@obudanapja.hu
SUMMARY:Nemzeti Közszolgálati Egyetem – TONFA szakosztály bemutatója
DESCRIPTION:
URL:https://obudanapja.hu/esemeny/nemzeti-kozszolgalati-egyetem-tonfa-szakosztaly-bemutatoja/
LOCATION:Csobánka tér\, Csobánka tér 5.\, Budapest\, Pest\, 1039\, Magyarország
ATTACH;FMTTYPE=image/jpeg:https://obudanapja.hu/wp-content/uploads/2025/04/494364486_1053808203553095_1075502350198336650_n.jpg
GEO:47.5979063;19.0526473
X-APPLE-STRUCTURED-LOCATION;VALUE=URI;X-ADDRESS=Csobánka tér Csobánka tér 5. Budapest Pest 1039 Magyarország;X-APPLE-RADIUS=500;X-TITLE=Csobánka tér 5.:geo:19.0526473,47.5979063
END:VEVENT
END:VCALENDAR