BEGIN:VCALENDAR
VERSION:2.0
PRODID:-//Óbuda Napja 2026 | obuda.hu - ECPv5.10.1//NONSGML v1.0//EN
CALSCALE:GREGORIAN
METHOD:PUBLISH
X-WR-CALNAME:Óbuda Napja 2026 | obuda.hu
X-ORIGINAL-URL:https://obudanapja.hu
X-WR-CALDESC:Events for Óbuda Napja 2026 | obuda.hu
BEGIN:VTIMEZONE
TZID:Europe/Budapest
BEGIN:DAYLIGHT
TZOFFSETFROM:+0100
TZOFFSETTO:+0200
TZNAME:CEST
DTSTART:20260329T010000
END:DAYLIGHT
BEGIN:STANDARD
TZOFFSETFROM:+0200
TZOFFSETTO:+0100
TZNAME:CET
DTSTART:20261025T010000
END:STANDARD
END:VTIMEZONE
BEGIN:VEVENT
DTSTART;TZID=Europe/Budapest:20260510T100000
DTEND;TZID=Europe/Budapest:20260510T112000
DTSTAMP:20260425T223150
CREATED:20260402T134104Z
LAST-MODIFIED:20260402T134104Z
UID:3743-1778407200-1778412000@obudanapja.hu
SUMMARY:Kerületi zeneiskolák bemutatója
DESCRIPTION:Az Óbuda Napja programsorozat legfőbb célkitűzése\, hogy bemutassa a kerület kulturális gazdagságát az érdeklődők számára\, így ebből a sorból nem maradhatnak ki azok a diákok sem\, akik zenei és művészeti tanulmányaikkal ugyancsak hozzájárulnak Óbuda kulturális kincseinek gyarapodásához. A hétvégén a kerületi tánc- és zeneiskolák diákjainak előadásai is színesítik a műsort. \n10:00-10:30: Andor Ilona Ének-Zenei Ált. és Alapfokú Művészeti Baptista Iskola kamaraprodukciója \n11:00-11:20: Aelia Sabina Alapfokú Művészeti Iskola Ütős-Fúvós Nagyzenekara
URL:https://obudanapja.hu/esemeny/keruleti-zeneiskolak-bemutatoja/
LOCATION:Szentlélek tér\, Szentlélek tér 1.\, Budapest\, Pest\, 1033\, Magyarország
ATTACH;FMTTYPE=image/jpeg:https://obudanapja.hu/wp-content/uploads/2026/04/2026-03-13_mokus_50_gkp_korus6.jpg
GEO:47.5412494;19.0455856
X-APPLE-STRUCTURED-LOCATION;VALUE=URI;X-ADDRESS=Szentlélek tér Szentlélek tér 1. Budapest Pest 1033 Magyarország;X-APPLE-RADIUS=500;X-TITLE=Szentlélek tér 1.:geo:19.0455856,47.5412494
END:VEVENT
END:VCALENDAR