BEGIN:VCALENDAR
VERSION:2.0
PRODID:-//Óbuda Napja 2026 | obuda.hu - ECPv5.10.1//NONSGML v1.0//EN
CALSCALE:GREGORIAN
METHOD:PUBLISH
X-WR-CALNAME:Óbuda Napja 2026 | obuda.hu
X-ORIGINAL-URL:https://obudanapja.hu
X-WR-CALDESC:Events for Óbuda Napja 2026 | obuda.hu
BEGIN:VTIMEZONE
TZID:Europe/Budapest
BEGIN:DAYLIGHT
TZOFFSETFROM:+0100
TZOFFSETTO:+0200
TZNAME:CEST
DTSTART:20260329T010000
END:DAYLIGHT
BEGIN:STANDARD
TZOFFSETFROM:+0200
TZOFFSETTO:+0100
TZNAME:CET
DTSTART:20261025T010000
END:STANDARD
END:VTIMEZONE
BEGIN:VEVENT
DTSTART;TZID=Europe/Budapest:20260509T130000
DTEND;TZID=Europe/Budapest:20260509T143000
DTSTAMP:20260425T210002
CREATED:20260331T201823Z
LAST-MODIFIED:20260420T125331Z
UID:3643-1778331600-1778337000@obudanapja.hu
SUMMARY:Kerületi Tánciskolák bemutatója
DESCRIPTION:  \nAz Óbuda Napja programsorozat legfőbb célkitűzése\, hogy bemutassa a kerület kulturális gazdagságát az érdeklődők számára\, így ebből a sorból nem maradhatnak ki azok a diákok sem\, akik zenei és művészeti tanulmányaikkal ugyancsak hozzájárulnak Óbuda kulturális kincseinek gyarapodásához. A hétvégén a kerületi tánc- és zeneiskolák diákjainak előadásai is színesítik a műsort. \n  \nAz Ungvár és Óbuda-Békásmegyer között a közelmúltban aláírt testvérvárosi egyezménynek köszönhetően az Ungvári Művészeti Iskola Szivárvány néptáncegyüttese és Eszterlánc népdalegyüttese is csatlakozik a színpadi produkciók sorához. \nAz Ungvári Művészeti Iskolában 1996-ban alakult meg az Eszterlánc magyar népdalegyüttes 2012-ben pedig a Szivárvány magyar néptáncegyüttes. \nMegalakulásuk óta aktívan részt vesznek különböző fesztiválokon\, néptánc és művészeti találkozókon\, művészeti rendezvényeken. Évről évre szerepelnek megyei és nemzetközi fesztiválokon és versenyeken\, ahol számos rangos díjakat nyertek és magas szakmai elismerést kaptak. \nElőadásaikat a művészi igényesség\, a professzionalizmus és a magyar dal- és tánchagyományok ápolása jellemzi. \n13:30-14:00 OMISK Tánc- és Mozgásművészeti Iskola táncbemutatója\n14:00-14:30 Ungvári Művészeti Iskola magyar hagyományőrző táncelőadása
URL:https://obudanapja.hu/esemeny/keruleti-tanciskolak-bemutatoja/
LOCATION:Fő tér\, Fő tér 3.\, Budapest\, Pest\, 1033\, Magyarország
ATTACH;FMTTYPE=image/jpeg:https://obudanapja.hu/wp-content/uploads/2026/03/4.jpg
GEO:47.5416808;19.0450078
X-APPLE-STRUCTURED-LOCATION;VALUE=URI;X-ADDRESS=Fő tér Fő tér 3. Budapest Pest 1033 Magyarország;X-APPLE-RADIUS=500;X-TITLE=Fő tér 3.:geo:19.0450078,47.5416808
END:VEVENT
END:VCALENDAR