BEGIN:VCALENDAR
VERSION:2.0
PRODID:-//Óbuda Napja 2026 | obuda.hu - ECPv5.10.1//NONSGML v1.0//EN
CALSCALE:GREGORIAN
METHOD:PUBLISH
X-WR-CALNAME:Óbuda Napja 2026 | obuda.hu
X-ORIGINAL-URL:https://obudanapja.hu
X-WR-CALDESC:Events for Óbuda Napja 2026 | obuda.hu
BEGIN:VTIMEZONE
TZID:Europe/Budapest
BEGIN:DAYLIGHT
TZOFFSETFROM:+0100
TZOFFSETTO:+0200
TZNAME:CEST
DTSTART:20260329T010000
END:DAYLIGHT
BEGIN:STANDARD
TZOFFSETFROM:+0200
TZOFFSETTO:+0100
TZNAME:CET
DTSTART:20261025T010000
END:STANDARD
END:VTIMEZONE
BEGIN:VEVENT
DTSTART;TZID=Europe/Budapest:20260509T110000
DTEND;TZID=Europe/Budapest:20260509T130000
DTSTAMP:20260425T223454
CREATED:20260403T185925Z
LAST-MODIFIED:20260403T190055Z
UID:3809-1778324400-1778331600@obudanapja.hu
SUMMARY:Csavargások családi nap
DESCRIPTION:Kassák Múzeum\nBudapest\, 1033 Fő tér 1. (Zichy-kastély) \n2026. május 9. 11:00-13:00 \nCSAVARGÁSOK- Családi nap \nSokan nem tudják\, de Kassák ifjúkorában gyalog járta be Európát. Egyik csavargótársa és vezetője a vele egykorú\, ám igen tapasztalt\, minden hájjal megkent Szittya Emil volt\, Óbuda szülötte. Csodabogár\, mézeskalács-bulldog\, göndör hajú sivatagi teve\, szatír vagy szent szeráf\, ködlovag\, kivert kutya – a festő\, szerkesztő és művészeti és újságíró Szittya Emilt (1886–1964) számtalan módon emlegették pályatársai és az irodalomtörténészek. Ismerte a leghíresebb bűnözőket\, csavargókat\, anarchistákat\, szocialistákat\, politikusokat és művészeket\, és feltehetően maga is űzte ezeket a szakmákat.\nHa szeretnétek többet is tudni Kassák és Szittya közös (néha hajmeresztő) kalandjairól és a Szittya-legendáriumról\, akkor gyertek és csavarogjatok velünk új kiállításunkon\, Anarchiában!\nA felnőtteknek tárlatvezetést\, a kisebbeknek papírszínházi mesét kínálunk. Csavargó óriás társasjátékunk pedig jó szórakozás minden korosztálynak. \nCsaládi jegy: 2500 Ft\nCsak tárlatvezetés: 1500 Ft\nJelentkezni a kassakmuzeum@pim.hu címen lehet.
URL:https://obudanapja.hu/esemeny/kassak-muzeum/
LOCATION:Kassák Múzeum\, Fő tér 1.\, Budapest\, Pest\, 1033\, Magyarország
ATTACH;FMTTYPE=image/png:https://obudanapja.hu/wp-content/uploads/2025/04/Kep1.png
GEO:47.54123;19.0456049
X-APPLE-STRUCTURED-LOCATION;VALUE=URI;X-ADDRESS=Kassák Múzeum Fő tér 1. Budapest Pest 1033 Magyarország;X-APPLE-RADIUS=500;X-TITLE=Fő tér 1.:geo:19.0456049,47.54123
END:VEVENT
END:VCALENDAR