BEGIN:VCALENDAR
VERSION:2.0
PRODID:-//Óbuda Napja 2026 | obuda.hu - ECPv5.10.1//NONSGML v1.0//EN
CALSCALE:GREGORIAN
METHOD:PUBLISH
X-WR-CALNAME:Óbuda Napja 2026 | obuda.hu
X-ORIGINAL-URL:https://obudanapja.hu
X-WR-CALDESC:Events for Óbuda Napja 2026 | obuda.hu
BEGIN:VTIMEZONE
TZID:Europe/Budapest
BEGIN:DAYLIGHT
TZOFFSETFROM:+0100
TZOFFSETTO:+0200
TZNAME:CEST
DTSTART:20260329T010000
END:DAYLIGHT
BEGIN:STANDARD
TZOFFSETFROM:+0200
TZOFFSETTO:+0100
TZNAME:CET
DTSTART:20261025T010000
END:STANDARD
END:VTIMEZONE
BEGIN:VEVENT
DTSTART;TZID=Europe/Budapest:20260509T110000
DTEND;TZID=Europe/Budapest:20260509T123000
DTSTAMP:20260425T215635
CREATED:20260403T190618Z
LAST-MODIFIED:20260406T141242Z
UID:3813-1778324400-1778329800@obudanapja.hu
SUMMARY:Interaktív élményséta Krúdy nyomában
DESCRIPTION:MNMKK Magyar Kereskedelmi és Vendéglátóipari Múzeum\n1036 Budapest\, Korona tér 1. \n2026.05.09. 11:00 \nInteraktív élményséta Krúdy nyomában \n„Nem olyan könnyű huncutnak lenni.” Krúdyról másként. Nemcsak az életútja alapján\, hanem érzésekben. Nem volt könnyű élete. Krúdy Gyula ebben a házban élte életének utolsó 3 évét. Sok drámai sorsot látott ez a hely…\nhttps://mkvm.hu/interaktiv-krudy/ \nVezeti: S. Bujdosó Tünde múzeumpedagógus\nIdőtartam: max. 80 perc\nLétszám: max. 20 fő\nKorosztály: gimnazistától-felnőtt\nDíj: belépőjegy + 1.000\, Ft-os programdíj\nhttps://mkvm.hu/belepok/\nRegisztrációhoz kötött: mkvmuzeum@gmail.com
URL:https://obudanapja.hu/esemeny/interaktiv-elmenyseta-krudy-nyomaban/
LOCATION:Magyar Kereskedelmi és Vendéglátóipari Múzeum\, 1036 Korona tér 1.\, Budapest\, 1036
ATTACH;FMTTYPE=image/jpeg:https://obudanapja.hu/wp-content/uploads/2026/04/641266571_1535195255272963_2804406783139002765_n.jpg
GEO:47.5704691;19.0556154
X-APPLE-STRUCTURED-LOCATION;VALUE=URI;X-ADDRESS=Magyar Kereskedelmi és Vendéglátóipari Múzeum 1036 Korona tér 1. Budapest 1036;X-APPLE-RADIUS=500;X-TITLE=1036 Korona tér 1.:geo:19.0556154,47.5704691
END:VEVENT
END:VCALENDAR