BEGIN:VCALENDAR
VERSION:2.0
PRODID:-//Óbuda Napja 2026 | obuda.hu - ECPv5.10.1//NONSGML v1.0//EN
CALSCALE:GREGORIAN
METHOD:PUBLISH
X-WR-CALNAME:Óbuda Napja 2026 | obuda.hu
X-ORIGINAL-URL:https://obudanapja.hu
X-WR-CALDESC:Events for Óbuda Napja 2026 | obuda.hu
BEGIN:VTIMEZONE
TZID:Europe/Budapest
BEGIN:DAYLIGHT
TZOFFSETFROM:+0100
TZOFFSETTO:+0200
TZNAME:CEST
DTSTART:20260329T010000
END:DAYLIGHT
BEGIN:STANDARD
TZOFFSETFROM:+0200
TZOFFSETTO:+0100
TZNAME:CET
DTSTART:20261025T010000
END:STANDARD
END:VTIMEZONE
BEGIN:VEVENT
DTSTART;TZID=Europe/Budapest:20260509T133000
DTEND;TZID=Europe/Budapest:20260509T141500
DTSTAMP:20260425T204121
CREATED:20260404T133959Z
LAST-MODIFIED:20260404T133959Z
UID:3848-1778333400-1778336100@obudanapja.hu
SUMMARY:Grimm-Busz Színház: Hetet egy csapásra
DESCRIPTION:A szegény szabólegény\, midőn világgá indul\, hogy szerencsét próbáljon\, találkozik egy kedves nénivel\, akitől egy üveg lekvárt kap ajándékba.\nA lekvárt azonban a legyek is meg akarják kóstolni. Ezt Péter nem tűrheti\, s jókorát csap közéjük. Amikor megszámolja áldozatait\, rádöbben\, hogy hetet ütött egy csapásra. Ettől kezdve nincs\, ami útjába állhatna\, hogy elérje álmait.\nPéter a gyerekek segítségével legyőzi az útonálló rablót (azért valaki mégis próbálkozik)\, majd a huncut manót is\, aki nem rest elrabolni a királykisasszonyt.
URL:https://obudanapja.hu/esemeny/grimm-busz-szinhaz-hetet-egy-csapasra/
LOCATION:Zichy udvar\, Szentlélek tér\, Budapest\, Pest\, 1033\, Magyarország
ATTACH;FMTTYPE=image/jpeg:https://obudanapja.hu/wp-content/uploads/2026/04/IMG_6813-scaled.jpg
END:VEVENT
END:VCALENDAR