BEGIN:VCALENDAR
VERSION:2.0
PRODID:-//Óbuda Napja 2026 | obuda.hu - ECPv5.10.1//NONSGML v1.0//EN
CALSCALE:GREGORIAN
METHOD:PUBLISH
X-WR-CALNAME:Óbuda Napja 2026 | obuda.hu
X-ORIGINAL-URL:https://obudanapja.hu
X-WR-CALDESC:Events for Óbuda Napja 2026 | obuda.hu
BEGIN:VTIMEZONE
TZID:Europe/Budapest
BEGIN:DAYLIGHT
TZOFFSETFROM:+0100
TZOFFSETTO:+0200
TZNAME:CEST
DTSTART:20260329T010000
END:DAYLIGHT
BEGIN:STANDARD
TZOFFSETFROM:+0200
TZOFFSETTO:+0100
TZNAME:CET
DTSTART:20261025T010000
END:STANDARD
END:VTIMEZONE
BEGIN:VEVENT
DTSTART;TZID=Europe/Budapest:20260509T100000
DTEND;TZID=Europe/Budapest:20260510T180000
DTSTAMP:20260425T210028
CREATED:20260403T185631Z
LAST-MODIFIED:20260403T185631Z
UID:3806-1778320800-1778436000@obudanapja.hu
SUMMARY:Floralia- Római Tavaszünnep
DESCRIPTION:BTM Aquincumi Múzeum\n1031 Budapest\, Szentendrei út 135. \nFloralia – Római tavaszünnep\nA BTM Aquincumi Múzeum 2026-ban is vár minden érdeklődőt az idén 35. alkalommal megrendezésre kerülő Floralia – Római tavaszünnepre\, amely során tudományos ismeretterjesztés\, megelevenedő történelem\, zene és táncművészet\, színház és gasztronómia egymás mellett érvényesül. Május 9-én és 10-én Róma tógás népe ismét birtokba veszi az egykori aquincumi polgárvárost\, hogy megfogható közelségbe hozza Budapest római kori örökségét.\nA belépés III. kerületi állandó lakcímmel rendelkező lakosok számára\, érvényes lakcímkártya felmutatásával\, ingyenes\, de helybeni regisztrációhoz kötött!\nTovábbi részletek: www.aquincum.hu \nFotó: Szilágyi Nóra
URL:https://obudanapja.hu/esemeny/floralia-romai-tavaszunnep/
LOCATION:Aquincumi Múzeum és Régészeti Park\, Szentendrei út 135.\, Budapest\, Pest\, 1031\, Magyarország
ATTACH;FMTTYPE=image/jpeg:https://obudanapja.hu/wp-content/uploads/2026/03/Floralia-–-Romai-tavaszunnep-Aquincumban-2026-scaled.jpg
GEO:47.5627382;19.0487996
X-APPLE-STRUCTURED-LOCATION;VALUE=URI;X-ADDRESS=Aquincumi Múzeum és Régészeti Park Szentendrei út 135. Budapest Pest 1031 Magyarország;X-APPLE-RADIUS=500;X-TITLE=Szentendrei út 135.:geo:19.0487996,47.5627382
END:VEVENT
END:VCALENDAR