BEGIN:VCALENDAR
VERSION:2.0
PRODID:-//Óbuda Napja 2026 | obuda.hu - ECPv5.10.1//NONSGML v1.0//EN
CALSCALE:GREGORIAN
METHOD:PUBLISH
X-WR-CALNAME:Óbuda Napja 2026 | obuda.hu
X-ORIGINAL-URL:https://obudanapja.hu
X-WR-CALDESC:Events for Óbuda Napja 2026 | obuda.hu
BEGIN:VTIMEZONE
TZID:Europe/Budapest
BEGIN:DAYLIGHT
TZOFFSETFROM:+0100
TZOFFSETTO:+0200
TZNAME:CEST
DTSTART:20260329T010000
END:DAYLIGHT
BEGIN:STANDARD
TZOFFSETFROM:+0200
TZOFFSETTO:+0100
TZNAME:CET
DTSTART:20261025T010000
END:STANDARD
END:VTIMEZONE
BEGIN:VEVENT
DTSTART;TZID=Europe/Budapest:20260509T143000
DTEND;TZID=Europe/Budapest:20260509T144500
DTSTAMP:20260425T221706
CREATED:20260402T131041Z
LAST-MODIFIED:20260402T131041Z
UID:3729-1778337000-1778337900@obudanapja.hu
SUMMARY:Danubia Rézfúvós Együttes: Rézfúvósok könnyedén
DESCRIPTION:A Danubia szimfonikus zenekar műfaji kísérletezései\, gyerekkoncertjei\, erős online jelenléte\, valamint szociális projektjei nyomán az ország egyik vezető és legkarakteresebb művészeti együttesévé vált az elmúlt években. Hagyomány és innováció mixén alapuló szemlélete különleges programösszeállítású produkciókkal hívja fel az érdeklődők figyelmét. Idén – kisebb formációban – a Danubia Rézfúvós Kvintett szólaltat meg népszerű műveket a klasszikusoktól a filmzenéig az Óbuda Nap látogatóinak.
URL:https://obudanapja.hu/esemeny/danubia-rezfuvos-egyuttes-rezfuvosok-konnyeden/
LOCATION:Szentlélek tér\, Szentlélek tér 1.\, Budapest\, Pest\, 1033\, Magyarország
ATTACH;FMTTYPE=image/jpeg:https://obudanapja.hu/wp-content/uploads/2026/04/490752577_24216585697928980_4952894961273650189_n.jpg
GEO:47.5412494;19.0455856
X-APPLE-STRUCTURED-LOCATION;VALUE=URI;X-ADDRESS=Szentlélek tér Szentlélek tér 1. Budapest Pest 1033 Magyarország;X-APPLE-RADIUS=500;X-TITLE=Szentlélek tér 1.:geo:19.0455856,47.5412494
END:VEVENT
END:VCALENDAR