BEGIN:VCALENDAR
VERSION:2.0
PRODID:-//Óbuda Napja 2026 | obuda.hu - ECPv5.10.1//NONSGML v1.0//EN
CALSCALE:GREGORIAN
METHOD:PUBLISH
X-WR-CALNAME:Óbuda Napja 2026 | obuda.hu
X-ORIGINAL-URL:https://obudanapja.hu
X-WR-CALDESC:Events for Óbuda Napja 2026 | obuda.hu
BEGIN:VTIMEZONE
TZID:Europe/Budapest
BEGIN:DAYLIGHT
TZOFFSETFROM:+0100
TZOFFSETTO:+0200
TZNAME:CEST
DTSTART:20260329T010000
END:DAYLIGHT
BEGIN:STANDARD
TZOFFSETFROM:+0200
TZOFFSETTO:+0100
TZNAME:CET
DTSTART:20261025T010000
END:STANDARD
END:VTIMEZONE
BEGIN:VEVENT
DTSTART;TZID=Europe/Budapest:20260509T163000
DTEND;TZID=Europe/Budapest:20260509T173000
DTSTAMP:20260425T221621
CREATED:20260402T131732Z
LAST-MODIFIED:20260402T131732Z
UID:3733-1778344200-1778347800@obudanapja.hu
SUMMARY:Baló Sámuel Trió
DESCRIPTION:A 2020 tavaszán megalakult trióban Baló Sámuel\, Miskolczi Márk és Richter Ambrus tehetsége adódik össze. Együttesük a hagyomány és innováció közti egyensúly fenntartására törekszik\, a hangsúlyt pedig a szabad művészi kifejezésre és a spontaneitásra helyezik\, így dinamikus koncertjeiken nagy szerepet kap az improvizáció és a zenei párbeszéd\, ami általában a felfedezés élményét tartogatja mind saját maguk\, mind a közönség számára.
URL:https://obudanapja.hu/esemeny/balo-samuel-trio/
LOCATION:Szentlélek tér\, Szentlélek tér 1.\, Budapest\, Pest\, 1033\, Magyarország
ATTACH;FMTTYPE=image/jpeg:https://obudanapja.hu/wp-content/uploads/2026/04/20241201_Balo_Samuel_Trio_lemezfelvetel_Palanta_0066-scaled.jpg
GEO:47.5412494;19.0455856
X-APPLE-STRUCTURED-LOCATION;VALUE=URI;X-ADDRESS=Szentlélek tér Szentlélek tér 1. Budapest Pest 1033 Magyarország;X-APPLE-RADIUS=500;X-TITLE=Szentlélek tér 1.:geo:19.0455856,47.5412494
END:VEVENT
END:VCALENDAR