BEGIN:VCALENDAR
VERSION:2.0
PRODID:-//Óbuda Napja 2026 | obuda.hu - ECPv5.10.1//NONSGML v1.0//EN
CALSCALE:GREGORIAN
METHOD:PUBLISH
X-WR-CALNAME:Óbuda Napja 2026 | obuda.hu
X-ORIGINAL-URL:https://obudanapja.hu
X-WR-CALDESC:Events for Óbuda Napja 2026 | obuda.hu
BEGIN:VTIMEZONE
TZID:Europe/Budapest
BEGIN:DAYLIGHT
TZOFFSETFROM:+0100
TZOFFSETTO:+0200
TZNAME:CEST
DTSTART:20260329T010000
END:DAYLIGHT
BEGIN:STANDARD
TZOFFSETFROM:+0200
TZOFFSETTO:+0100
TZNAME:CET
DTSTART:20261025T010000
END:STANDARD
END:VTIMEZONE
BEGIN:VEVENT
DTSTART;TZID=Europe/Budapest:20260510T100000
DTEND;TZID=Europe/Budapest:20260510T170000
DTSTAMP:20260425T210206
CREATED:20260406T102045Z
LAST-MODIFIED:20260406T102045Z
UID:3886-1778407200-1778432400@obudanapja.hu
SUMMARY:A gyár anatómiája. Interaktív játékok nemcsak gyerekeknek
DESCRIPTION:
URL:https://obudanapja.hu/esemeny/a-gyar-anatomiaja-interaktiv-jatekok-nemcsak-gyerekeknek/
LOCATION:Zichy udvar\, Szentlélek tér\, Budapest\, Pest\, 1033\, Magyarország
ATTACH;FMTTYPE=image/jpeg:https://obudanapja.hu/wp-content/uploads/2026/04/HAJOGYAR_plakat_vegleges-scaled-1.jpg
END:VEVENT
END:VCALENDAR